BEGIN:VCALENDAR
VERSION:2.0
CALSCALE:GREGORIAN
METHOD:PUBLISH
PRODID://APG//517122
BEGIN:VEVENT
DTSTAMP:20260424T005634
VTIMEZONE:America/New_York
DTSTART:20260505T190000Z
DTEND:20260505T200000Z
UID:517122
SUMMARY:Southeast Chapter Board Meeting
LOCATION:
DESCRIPTION:Southeast Chapter Board Meeting\n\n05/05/26 03:00 PM EST\n - 05/05/26 04:00 PM EST
X-ALT-DESC;FMTTYPE=text/html:Southeast Chapter Board Meeting<br /><br />05/05/26 03:00 PM EST - 05/05/26 04:00 PM EST
PRIORITY:3
TRANSP:TRANSPARENT
BEGIN:VALARM
TRIGGER:-PT5M
ACTION:DISPLAY
DESCRIPTION:Reminder
END:VALARM
END:VEVENT
END:VCALENDAR
