BEGIN:VCALENDAR
VERSION:2.0
CALSCALE:GREGORIAN
METHOD:PUBLISH
PRODID://APG//517068
BEGIN:VEVENT
DTSTAMP:20260422T233525
VTIMEZONE:America/New_York
DTSTART:20260513T020000Z
DTEND:20260513T023000Z
UID:517068
SUMMARY:Continuing Education Drop-In Discussion
LOCATION:
DESCRIPTION:Continuing Education Drop-In Discussion\n\n05/12/26 10:00 PM EST\n - 05/12/26 10:30 PM EST\Description:\nContinuing Education Drop-In Discussion\n\nTuesday, 12 May\n\n10:00-10:30 p.m. ET\n\nNote: this is 7:00 p.m. PT on 12 May/noon Wednesday 13 May AEST (Australia)\n\n \n\nContinuing Education: do you prefer virtual or in-person instruction? \n\n \n\nJoin members of APG’s Continuing Education Committee for a 30-minute drop-in discussion on virtual vs. in-person education on May 12 at 10 p.m. ET (this is 7 p.m. PT, and 12 p.m. May 13 in Australia).\n\n \n\nThere will also be time to get information and ask questions about APG’s Continuing Education requirement and to discuss your own education plans for 2026. \n
X-ALT-DESC;FMTTYPE=text/html:Continuing Education Drop-In Discussion<br /><br />05/12/26 10:00 PM EST - 05/12/26 10:30 PM EST<br />Description:<br /><p style="margin:0in;background:white;vertical-align:baseline"><strong><span style="border:none windowtext 1.0pt; color:black; font-family:perpetua,serif; font-size:16.0pt; mso-border-alt:none windowtext 0in; padding:0in">Continuing Education Drop-In Discussion</span></strong></p>

<p style="margin:0in;background:white;vertical-align:baseline"><strong><span style="border:none windowtext 1.0pt; color:black; font-family:perpetua,serif; font-size:16.0pt; mso-border-alt:none windowtext 0in; padding:0in">Tuesday, 12 May</span></strong></p>

<p style="margin:0in;background:white;vertical-align:baseline"><strong><span style="border:none windowtext 1.0pt; color:black; font-family:perpetua,serif; font-size:16.0pt; mso-border-alt:none windowtext 0in; padding:0in">10:00-10:30 p.m. ET</span></strong></p>

<p style="margin:0in;background:white;vertical-align:baseline"><span style="color:#FF0000"><strong><span style="border:1pt windowtext; font-family:perpetua,serif; font-size:16pt; padding:0in">Note: this is 7:00 p.m. PT on 12 May/noon Wednesday 13 May AEST (Australia)</span></strong></span></p>

<p style="margin:0in;background:white;vertical-align:baseline"><span style="color:black; font-family:perpetua,serif; font-size:16.0pt">&nbsp;</span></p>

<p style="margin:0in;background:white;vertical-align:baseline"><em><span style="color:black; font-family:perpetua,serif; font-size:20.0pt">Continuing Education: do you prefer virtual or in-person instruction? </span></em></p>

<p style="margin:0in;background:white;vertical-align:baseline"><span style="color:black; font-family:perpetua,serif; font-size:16.0pt">&nbsp;</span></p>

<p style="margin:0in;background:white;vertical-align:baseline"><span style="color:black; font-family:perpetua,serif; font-size:16.0pt">Join members of APG&rsquo;s Continuing Education Committee for a 30-minute drop-in discussion on virtual vs. in-person education on May 12 at 10 p.m. ET (<strong>this is 7 p.m. PT, and 12 p.m. May 13 in Australia</strong>).</span></p>

<p style="margin:0in;background:white;vertical-align:baseline"><span style="color:black; font-family:perpetua,serif; font-size:16.0pt">&nbsp;</span></p>

<p style="margin:0in;background:white;vertical-align:baseline"><span style="color:black; font-family:perpetua,serif; font-size:16.0pt">There will also be time to get information and ask questions about APG&rsquo;s Continuing Education requirement and to discuss your own education plans for 2026. </span></p>

PRIORITY:3
TRANSP:TRANSPARENT
BEGIN:VALARM
TRIGGER:-PT5M
ACTION:DISPLAY
DESCRIPTION:Reminder
END:VALARM
END:VEVENT
END:VCALENDAR
