BEGIN:VCALENDAR
VERSION:2.0
CALSCALE:GREGORIAN
METHOD:PUBLISH
PRODID://APG//517038
BEGIN:VEVENT
DTSTAMP:20260422T233918
VTIMEZONE:America/New_York
DTSTART:20260703T140000Z
DTEND:20260703T150000Z
UID:517038
SUMMARY:Southeast: Body Doubling Session
LOCATION:
DESCRIPTION:Southeast: Body Doubling Session\n\n07/03/26 10:00 AM EST\n - 07/03/26 11:00 AM EST\Description:\nAll APG Members Welcome! The Southeast Chapter is now hosting weekly, one-hour body doubling sessions - every Friday at 10:00 am ET.  Need to find some accountability or motivation?  Come once, come often!  
X-ALT-DESC;FMTTYPE=text/html:Southeast: Body Doubling Session<br /><br />07/03/26 10:00 AM EST - 07/03/26 11:00 AM EST<br />Description:<br /><span style="font-size:14px">All APG Members Welcome! The Southeast Chapter is now hosting weekly, one-hour body doubling sessions - every Friday at 10:00 am ET.&nbsp; Need to find some accountability or motivation?&nbsp; Come once, come often!&nbsp;&nbsp;</span>
PRIORITY:3
TRANSP:TRANSPARENT
BEGIN:VALARM
TRIGGER:-PT5M
ACTION:DISPLAY
DESCRIPTION:Reminder
END:VALARM
END:VEVENT
END:VCALENDAR
