BEGIN:VCALENDAR
VERSION:2.0
CALSCALE:GREGORIAN
METHOD:PUBLISH
PRODID://APG//516951
BEGIN:VEVENT
DTSTAMP:20260421T225748
VTIMEZONE:America/New_York
DTSTART:20260619T150000Z
DTEND:20260619T160000Z
UID:516951
SUMMARY:Southeast BCG Accountability Group
LOCATION:
DESCRIPTION:Southeast BCG Accountability Group\n\n06/19/26 11:00 AM EST\n - 06/19/26 12:00 PM EST\Description:\nOpen to chapter members who are currently "on the clock" with the Board for Certification of Genealogists.
X-ALT-DESC;FMTTYPE=text/html:Southeast BCG Accountability Group<br /><br />06/19/26 11:00 AM EST - 06/19/26 12:00 PM EST<br />Description:<br />Open to chapter members who are currently &quot;on the clock&quot; with the Board for Certification of Genealogists.
PRIORITY:3
TRANSP:TRANSPARENT
BEGIN:VALARM
TRIGGER:-PT5M
ACTION:DISPLAY
DESCRIPTION:Reminder
END:VALARM
END:VEVENT
END:VCALENDAR
