BEGIN:VCALENDAR
VERSION:2.0
CALSCALE:GREGORIAN
METHOD:PUBLISH
PRODID://APG//516948
BEGIN:VEVENT
DTSTAMP:20260421T225912
VTIMEZONE:America/New_York
DTSTART:20260521T233000Z
DTEND:20260522T003000Z
UID:516948
SUMMARY:Southeast Chapter Board Meeting
LOCATION:
DESCRIPTION:Southeast Chapter Board Meeting\n\n05/21/26 07:30 PM EST\n - 05/21/26 08:30 PM EST
X-ALT-DESC;FMTTYPE=text/html:Southeast Chapter Board Meeting<br /><br />05/21/26 07:30 PM EST - 05/21/26 08:30 PM EST
PRIORITY:3
TRANSP:TRANSPARENT
BEGIN:VALARM
TRIGGER:-PT5M
ACTION:DISPLAY
DESCRIPTION:Reminder
END:VALARM
END:VEVENT
END:VCALENDAR
