BEGIN:VCALENDAR
VERSION:2.0
CALSCALE:GREGORIAN
METHOD:PUBLISH
PRODID://APG//516549
BEGIN:VEVENT
DTSTAMP:20260421T031132
VTIMEZONE:America/Chicago
DTSTART:20260722T000000Z
DTEND:20260722T020000Z
UID:516549
SUMMARY:South Central Chapter Summer Camp
LOCATION:https://us06web.zoom.us/j/86036892929?pwd=JRa0B4jFTbh3gbla0p4NnkjDSc9Aq0.1
DESCRIPTION:South Central Chapter Summer Camp\n\n07/21/26 07:00 PM CST\n - 07/21/26 09:00 PM CST\Description:\nSummer Boot Camp\nMay - August \n3rd Tuesday at 7pm\nOnce a month participants will examine an article, design a short locality guide, create a research log and author a very short proof. \nDates: 4/21, 5/19, 6/16, 7/21, 8/18\n\nParticipants will receive a certificate and prize at the end of the camp. \Details:\nhttps://us06web.zoom.us/j/86036892929?pwd=JRa0B4jFTbh3gbla0p4NnkjDSc9Aq0.1\Location:\nhttps://us06web.zoom.us/j/86036892929?pwd=JRa0B4jFTbh3gbla0p4NnkjDSc9Aq0.1\n\n,
X-ALT-DESC;FMTTYPE=text/html:South Central Chapter Summer Camp<br /><br />07/21/26 07:00 PM CST - 07/21/26 09:00 PM CST<br />Description:<br /><strong><a data-saferedirecturl="https://www.google.com/url?q=https://us06web.zoom.us/meeting/register/F-DBytJITOam0aWmz4kEVw&amp;source=gmail&amp;ust=1776784840624000&amp;usg=AOvVaw1Ra6YDCnXBNkI2D5qtsDSt" href="https://us06web.zoom.us/meeting/register/F-DBytJITOam0aWmz4kEVw" target="_blank">Summer Boot Camp</a></strong><br />
May - August&nbsp;<br />
3rd Tuesday at 7pm<br />
Once a month participants will examine an article, design a short locality guide, create a research log and author a very short proof.&nbsp;<br />
Dates: 4/21, 5/19, 6/16, 7/21, 8/18<br />
<br />
Participants will receive a certificate and prize at the end of the camp.&nbsp;<br />Details:<br />https://us06web.zoom.us/j/86036892929?pwd=JRa0B4jFTbh3gbla0p4NnkjDSc9Aq0.1<br />Location:<br />https://us06web.zoom.us/j/86036892929?pwd=JRa0B4jFTbh3gbla0p4NnkjDSc9Aq0.1<br /><br />,  
PRIORITY:3
TRANSP:TRANSPARENT
BEGIN:VALARM
TRIGGER:-PT5M
ACTION:DISPLAY
DESCRIPTION:Reminder
END:VALARM
END:VEVENT
END:VCALENDAR
