BEGIN:VCALENDAR
VERSION:2.0
CALSCALE:GREGORIAN
METHOD:PUBLISH
PRODID://APG//516340
BEGIN:VEVENT
DTSTAMP:20260420T011654
VTIMEZONE:America/Los_Angeles
DTSTART:20260526T020000Z
DTEND:20260526T040000Z
UID:516340
SUMMARY:Puget Sound Chapter - Gena Ortega-Philbert - A Dash of History, A Pinch of Story: Cookbooks as Cultural Windows
LOCATION:
DESCRIPTION:Puget Sound Chapter - Gena Ortega-Philbert - A Dash of History, A Pinch of Story: Cookbooks as Cultural Windows\n\n05/25/26 07:00 PM PST\n - 05/25/26 09:00 PM PST\Description:\n\nA Dash of History, A Pinch of Story: Cookbooks as Cultural Windows with Gena Ortega-Philbert\n\n \Details:\nGena Philibert-Ortega is an author, researcher, and instructor whose focus is genealogy, social and women's history. She holds a Master’s degree in Interdisciplinary Studies (Psychology and Women's Studies) and a Master’s degree in Religion.  Come hear her talk with the Puget Sound Chapter about cookbooks as an important cultural element to family history and story telling.
X-ALT-DESC;FMTTYPE=text/html:Puget Sound Chapter - Gena Ortega-Philbert - A Dash of History, A Pinch of Story: Cookbooks as Cultural Windows<br /><br />05/25/26 07:00 PM PST - 05/25/26 09:00 PM PST<br />Description:<br /><br />
<strong>A Dash of History, A Pinch of Story: Cookbooks as Cultural Windows with Gena Ortega-Philbert</strong><br />
<br />
&nbsp;<br />Details:<br />Gena Philibert-Ortega is an author, researcher, and instructor whose focus is genealogy, social and women's history. She holds a Master&rsquo;s degree in Interdisciplinary Studies (Psychology and Women's Studies) and a Master&rsquo;s degree in Religion.&nbsp; Come hear her talk with the Puget Sound Chapter about cookbooks as an important cultural element to family history and story telling.
PRIORITY:3
TRANSP:TRANSPARENT
BEGIN:VALARM
TRIGGER:-PT5M
ACTION:DISPLAY
DESCRIPTION:Reminder
END:VALARM
END:VEVENT
END:VCALENDAR
