BEGIN:VCALENDAR
VERSION:2.0
CALSCALE:GREGORIAN
METHOD:PUBLISH
PRODID://APG//483457
BEGIN:VEVENT
DTSTAMP:20260420T012126
VTIMEZONE:America/Los_Angeles
DTSTART:20260127T030000Z
DTEND:20260127T043000Z
UID:483457
SUMMARY:My AG Journey, by Bonnie Anderson
LOCATION:
DESCRIPTION:My AG Journey, by Bonnie Anderson\n\n01/26/26 07:00 PM PST\n - 01/26/26 08:30 PM PST\Description:\n\nJoin us for our next Puget Sound Chapter meeting, where chapter member Bonnie Anderson will share “My AG Journey.” Non-chapter members are welcome to attend.\n\nWhat does it take to become an accredited genealogist through ICAPGen? I will share my personal AG Journey, from deciding to pursue accreditation and selecting a regional specialization, to preparing for the Four Generation project, the Written Exams, and the culminating Oral Review. Whether you are interested in pursuing accreditation or just mildly curious about the process, this presentation is for you.\n \n
X-ALT-DESC;FMTTYPE=text/html:My AG Journey, by Bonnie Anderson<br /><br />01/26/26 07:00 PM PST - 01/26/26 08:30 PM PST<br />Description:<br /><!--StartFragment -->
<p>Join us for our next Puget Sound Chapter meeting, where chapter member <strong>Bonnie Anderson</strong> will share &ldquo;My AG Journey.&rdquo; Non-chapter members are welcome to attend.<br />
<br />
What does it take to become an accredited genealogist through ICAPGen? I will share my personal AG Journey, from deciding to pursue accreditation and selecting a regional specialization, to preparing for the Four Generation project, the Written Exams, and the culminating Oral Review. Whether you are interested in pursuing accreditation or just mildly curious about the process, this presentation is for you.<br />
&nbsp;</p>
<!--EndFragment -->
PRIORITY:3
TRANSP:TRANSPARENT
BEGIN:VALARM
TRIGGER:-PT5M
ACTION:DISPLAY
DESCRIPTION:Reminder
END:VALARM
END:VEVENT
END:VCALENDAR
