BEGIN:VCALENDAR
VERSION:2.0
CALSCALE:GREGORIAN
METHOD:PUBLISH
PRODID://APG//482231
BEGIN:VEVENT
DTSTAMP:20260421T031234
VTIMEZONE:America/New_York
DTSTART:20260129T000000Z
DTEND:20260129T020000Z
UID:482231
SUMMARY:Mid-Atlantic Annual Meeting
LOCATION:
DESCRIPTION:Mid-Atlantic Annual Meeting\n\n01/28/26 07:00 PM EST\n - 01/28/26 09:00 PM EST\Description:\nJoin us for our Annual Meeting as we celebrate Mid-Atlantic’s 2025 accomplishments, look ahead to plans and priorities for 2026, and welcome our newly elected officers and board members. This is an opportunity to reflect on the year behind us, hear what’s coming next, and connect with colleagues. Plus a special award, and door prizes! Open to all APG members, especially those who want to know more about Mid-Atlantic.
X-ALT-DESC;FMTTYPE=text/html:Mid-Atlantic Annual Meeting<br /><br />01/28/26 07:00 PM EST - 01/28/26 09:00 PM EST<br />Description:<br /><span style="-webkit-text-stroke-width:0px; background-color:rgb(255, 255, 255); color:rgb(35, 35, 51); display:inline !important; float:none; font-family:almaden sans,helvetica,arial; font-size:14px; font-style:normal; font-variant-caps:normal; font-variant-ligatures:normal; font-weight:400; letter-spacing:0.42px; orphans:2; text-align:start; text-decoration-color:initial; text-decoration-style:initial; text-decoration-thickness:initial; text-indent:0px; text-transform:none; white-space:pre-line; widows:2; word-spacing:0px">Join us for our Annual Meeting as we celebrate Mid-Atlantic&rsquo;s 2025 accomplishments, look ahead to plans and priorities for 2026, and welcome our newly elected officers and board members. This is an opportunity to reflect on the year behind us, hear what&rsquo;s coming next, and connect with colleagues.</span>&nbsp;Plus a special award, and door prizes! Open to all APG members, especially those who want to know more about Mid-Atlantic.
PRIORITY:3
TRANSP:TRANSPARENT
BEGIN:VALARM
TRIGGER:-PT5M
ACTION:DISPLAY
DESCRIPTION:Reminder
END:VALARM
END:VEVENT
END:VCALENDAR
